BEGIN:VCALENDAR
VERSION:2.0
PRODID:-//eventon.com NONSGML v1.0//EN
CALSCALE:GREGORIAN
METHOD:PUBLISH
BEGIN:VEVENT
UID:69e8a1ab55d27
DTSTAMP:20260422T102339Z
DTSTART:20240204T130000Z
DTEND:20240211T040000Z
LOCATION:RA Centre - Ottawa Hunt Club Ottawa Hunt Club
SUMMARY:2024 Canadian U-18 Curling Championships
DESCRIPTION:The 2024 Canadian U18 Curling Championships will be held from F
 ebruary 4 to 10 at the RA Centre and the Ottawa Hunt and Golf Club in Ottaw
 a\,  Ontario. This will be the sixth edition of the Canadian U18 Curling Ch
 ampionships. The inaugural edition was held in Moncton\,  New Brunswick in[
 ..]\nhttps://canadianevents.ca/events/2024-canadian-u-18-curling-championsh
 ips/
URL:https://canadianevents.ca/events/2024-canadian-u-18-curling-championships/
END:VEVENT
END:VCALENDAR