BEGIN:VCALENDAR
VERSION:2.0
PRODID:-//eventon.com NONSGML v1.0//EN
CALSCALE:GREGORIAN
METHOD:PUBLISH
BEGIN:VEVENT
UID:69e8a1879ebf2
DTSTAMP:20260422T102303Z
DTSTART:20250313T170000Z
DTEND:20250317T030000Z
LOCATION:BC Place Stadium 777 Pacific Blvd\,  Vancouver\,  BC V6B 4Y8
SUMMARY:BC Home & Garden Show
DESCRIPTION:&#8220;International Architect Construction Specialty Expo&#822
 1; BC Home &#038; Garden Show is a leading global event for the home and ga
 rden sector. It is North America&#8217;s biggest organizer of consumer show
 s for home decor\,  gardening\,  and remodeling\,  featuring a range of pro
 ducts and services such as interior design\,  spas\,  and more.[..]\nhttps:
 //canadianevents.ca/events/bc-home-garden-show/
URL:https://canadianevents.ca/events/bc-home-garden-show/
END:VEVENT
END:VCALENDAR