BEGIN:VCALENDAR
VERSION:2.0
PRODID:-//eventon.com NONSGML v1.0//EN
CALSCALE:GREGORIAN
METHOD:PUBLISH
BEGIN:VEVENT
UID:69eb275a4f2f3
DTSTAMP:20260424T081834Z
DTSTART:20241004T140000Z
DTEND:20241007T000000Z
LOCATION:Complexe Multi-Sports de Laval 955 Av. de Bois-de-Boulogne\,  Laval\,  QC H7N 4G1
SUMMARY:Expo Cartes Sports Montreal 2024
DESCRIPTION:SPORT CARD &#038; MEMORABILIA EXPO IS MONTRÉAL’S LARGEST SPO
 RTS COLLECTABLES SHOW Sport Card &#038; Memorabilia Expo is Canada’s larg
 est and longest-running sports collectables show. Meet guests and get autog
 raphs from hockey and other sports legends. Shop over 500 dealers &#038; co
 rporate booths and find rare cards &#038; sports memorabilia from[..]\nhttp
 s://canadianevents.ca/events/expo-cartes-sports-montreal-2024/
URL:https://canadianevents.ca/events/expo-cartes-sports-montreal-2024/
END:VEVENT
END:VCALENDAR